BEGIN:VCALENDAR
VERSION:2.0
PRODID:-//wp-events-plugin.com//5.99912//EN
TZID:Europe/Berlin
X-WR-TIMEZONE:Europe/Berlin
BEGIN:VEVENT
UID:0-431@bempflingen.albverein.eu
DTSTART;TZID=Europe/Berlin:20260712T000000
DTEND;TZID=Europe/Berlin:20260714T000000
DTSTAMP:20260209T181245Z
URL:https://bempflingen.albverein.eu/events/mehrtageswanderung-ostallgaeu-
 bei-fuessen/
SUMMARY:Mehrtageswanderung Ostallgäu bei Füssen (ausgebucht-Warteliste)
DESCRIPTION:Für unsere Mehrtageswanderung haben wir ein schönes Hotel bei
  Rosshaupten gefunden: der Haflingerhof. Ihr könnt ja schon mal auf der h
 omepage https://www.haflingerhof.com/ schauen...                 
                                                  R
 eserviert haben wir jetzt mal für 24 Personen im Doppelzimmer und 2 Perso
 nen im EInzelzimmer. DIesesmal bekommen wir das Abendessen immer im Hotel 
 und wir haben Halbpension gebucht.\n\nPreis:  Pro Person im Doppelzimmer 
 2 x ÜN/FS + Halbpension   190 €                         
                Pro Person im Einzelzimmer 2 x ÜN/FS + Halbpension
   200 €\n\nNoch steht nichts zum Programm fest\, aber wie immer werden 
 wir Wanderungen für Mehr- und Wenigwanderer anbieten. Wir reisen mit Priv
 at-PKW an und freuen uns auf Bekannte Mitreisende und Neulinge!
END:VEVENT
BEGIN:VTIMEZONE
TZID:Europe/Berlin
X-LIC-LOCATION:Europe/Berlin
BEGIN:DAYLIGHT
DTSTART:20260329T030000
TZOFFSETFROM:+0100
TZOFFSETTO:+0200
TZNAME:CEST
END:DAYLIGHT
END:VTIMEZONE
END:VCALENDAR