BEGIN:VCALENDAR
VERSION:2.0
PRODID:-//wp-events-plugin.com//5.99912//EN
TZID:Europe/Berlin
X-WR-TIMEZONE:Europe/Berlin
BEGIN:VEVENT
UID:0-430@bempflingen.albverein.eu
DTSTART;TZID=Europe/Berlin:20260509T000000
DTEND;TZID=Europe/Berlin:20260510T000000
DTSTAMP:20260407T195734Z
URL:https://bempflingen.albverein.eu/events/sportliches-wanderwochenende-4
 /
SUMMARY:Sportliches Wanderwochenende
DESCRIPTION:Die Details stehen fest! Wir starten mit dem Zug am Bahnhof Bem
 pflingen\, Bahnhofseite um 08:04 Uhr. Nach dem Umstieg in Metzingen starte
 n wir mit der Wanderung in Bad Urach.\n\nAuf unserem Weg durchs Städtle k
 ann man sich nochmal beim Bäcker eindecken. Dann führt uns die Wanderung
  über die Falkensteiner Höhle\, vorbei an Grabenstetten wieder hinunter 
 ins Lenninger Tal (kurzer Einkehr-Stopp in Schlattstall möglich) nach Obe
 rlenningen. Durchs Tobeltal geht es dann wieder hinauf und über den Engel
 hof und Ruine Rauber zur Teck.\n\nDanach haben wir ca.26 km und ca.800hm h
 inter uns gebracht. Die gesamte Tour ist abwechslungsreich\, spannend und 
 sicherlich auch nicht auf die ganze Strecke gut bekannt.\n\nNach hoffentli
 ch erholsamen Abend und geruhsamer Nacht wandern wir am Sonntag zurück na
 ch Bempflingen. Auf der Strecke liegen Owen\, Beuren\, Linsenhofen – hie
 r können wir einen Stopp zum Energieauffüllen einlegen - und dann geht
 ’s über Tischardt\, Grafenberg und Kleinbettlingen. Unser Ziel erreiche
 n wir nach knapp 22km und 320hm und natürlich deutlich mehr Höhenmeter h
 inab.\n\nKosten: - Zugfahrt ca. 4€                         
                                                  
                           -  Übernachtung im Doppel- oder 3
 -Bettzimmer inklusive Frühstück 50\,50€ für AV-Mitglieder – mit Gut
 schein nochmal 4\,50€ billiger – Gutschein nicht vergessen\n\nFür Nic
 htmitglieder 55\,50€\n\nJetzt hoffen wir\, dass Euch die Tour anspricht 
 und wir freuen uns auf Eure Anmeldung.\n\nWir haben noch 10 Betten frei 
 – 12 Teilnehmer haben sich schon ohne Detailinfo angemeldet.\n\nAm beste
 n registriert man sich über die homepage oder bei Sabine Fälchle unter T
 el. 36115 – Anrufbeantworter besprechen!\n\nHerzliche Einladung an alle 
 sportlichen Wanderer die keine Angst vor 800 hm haben…\n\n&nbsp\;
END:VEVENT
BEGIN:VTIMEZONE
TZID:Europe/Berlin
X-LIC-LOCATION:Europe/Berlin
BEGIN:DAYLIGHT
DTSTART:20260329T030000
TZOFFSETFROM:+0100
TZOFFSETTO:+0200
TZNAME:CEST
END:DAYLIGHT
END:VTIMEZONE
END:VCALENDAR