BEGIN:VCALENDAR
VERSION:2.0
PRODID:-//wp-events-plugin.com//5.99912//EN
TZID:Europe/Berlin
X-WR-TIMEZONE:Europe/Berlin
BEGIN:VEVENT
UID:0-427@bempflingen.albverein.eu
DTSTART;TZID=Europe/Berlin:20260513T000000
DTEND;TZID=Europe/Berlin:20260513T000000
DTSTAMP:20260126T215903Z
URL:https://bempflingen.albverein.eu/events/theaterfahrt-ins-alte-schauspi
 elhaus/
SUMMARY:Theaterfahrt ins Alte Schauspielhaus -ausgebucht!
DESCRIPTION:Rita hat wieder tolle Karten für uns besorgt!\n\nUm 16 Uhr sch
 auen wir uns das Stück " Endstation Sehnsucht" zum Hammerpreis von 10€ 
 pro Karte an. Bekannt wurde das Stück durch einen Film mit Marlon Brando 
 und Vivien Leigh aus dem Jahr 1951.\n\n"Endstation Sehnsucht" ist ein 
 Drama von Tennessee Williams\, das die tragische  Geschichte von Bl
 anche DuBois erzählt\, die nach dem Verlust ihrer aristokratischen Wurzel
 n in die rauen Verhältnisse von New Orleans flüchtet.
END:VEVENT
BEGIN:VTIMEZONE
TZID:Europe/Berlin
X-LIC-LOCATION:Europe/Berlin
BEGIN:DAYLIGHT
DTSTART:20260329T030000
TZOFFSETFROM:+0100
TZOFFSETTO:+0200
TZNAME:CEST
END:DAYLIGHT
END:VTIMEZONE
END:VCALENDAR